BEGIN:VCALENDAR
VERSION:2.0
PRODID:-//Fojo - ECPv6.11.2//NONSGML v1.0//EN
CALSCALE:GREGORIAN
METHOD:PUBLISH
X-ORIGINAL-URL:https://golfojo.com
X-WR-CALDESC:Events for Fojo
REFRESH-INTERVAL;VALUE=DURATION:PT1H
X-Robots-Tag:noindex
X-PUBLISHED-TTL:PT1H
BEGIN:VTIMEZONE
TZID:Europe/Lisbon
BEGIN:DAYLIGHT
TZOFFSETFROM:+0000
TZOFFSETTO:+0100
TZNAME:WEST
DTSTART:20250330T010000
END:DAYLIGHT
BEGIN:STANDARD
TZOFFSETFROM:+0100
TZOFFSETTO:+0000
TZNAME:WET
DTSTART:20251026T010000
END:STANDARD
BEGIN:DAYLIGHT
TZOFFSETFROM:+0000
TZOFFSETTO:+0100
TZNAME:WEST
DTSTART:20260329T010000
END:DAYLIGHT
BEGIN:STANDARD
TZOFFSETFROM:+0100
TZOFFSETTO:+0000
TZNAME:WET
DTSTART:20261025T010000
END:STANDARD
END:VTIMEZONE
BEGIN:VEVENT
DTSTART;TZID=Europe/Lisbon:20251231T193000
DTEND;TZID=Europe/Lisbon:20260101T040000
DTSTAMP:20260420T141214
CREATED:20251125T160537Z
LAST-MODIFIED:20251229T124954Z
UID:11546-1767209400-1767240000@golfojo.com
SUMMARY:Festa de Passagem de Ano!
DESCRIPTION:🍾✨Entre no Novo Ano com a Magia da Quinta do Fojo! 🍾 \nCelebre a passagem de ano num cenário único\, onde a natureza\, a boa gastronomia e a festa se unem para dar as boas-vindas a 2026 da melhor forma. \nO que preparámos para si: \n🍹 Cocktail de boas-vindas\n🍽️ Jantar especial\, preparado de raíz com os ingredientes frescos da Quinta\n🥂 Espumante\, uvas passas e ceia para cumprir a tradição\n💃 Festa pela madrugada fora\, com música\, dança e muitas surpresas \n🎉 Opções de participação*\n– Programa completo: 98€ por pessoa\n– Só Festa: 40€ por pessoa (inclui festa e ceia) \n📱 968 448 104 (chamada para rede móvel nacional)\n💌 restaurantequintadofojo@golfojo.com \nAs reservas são limitadas\, por isso garanta já o seu lugar e venha celebrar connosco a noite mais especial do ano! \n*Reserva com pré-pagamento.
URL:https://golfojo.com/event/ano-novo/
LOCATION:Golfe da Quinta do Fojo\, 238 Rua Nova do Fojo Canidelo\, Vila Nova de Gaia\, Porto\, 4400-232\, Portugal
CATEGORIES:Eventos
ATTACH;FMTTYPE=image/png:https://golfojo.com/wp-content/uploads/2025/11/Yellow-White-Minimalist-Elegant-Mocktail-Happy-Hour-Instagram-Post-1.png
END:VEVENT
END:VCALENDAR