BEGIN:VCALENDAR
VERSION:2.0
PRODID:-//Fojo - ECPv6.11.2//NONSGML v1.0//EN
CALSCALE:GREGORIAN
METHOD:PUBLISH
X-WR-CALNAME:Fojo
X-ORIGINAL-URL:https://golfojo.com
X-WR-CALDESC:Events for Fojo
REFRESH-INTERVAL;VALUE=DURATION:PT1H
X-Robots-Tag:noindex
X-PUBLISHED-TTL:PT1H
BEGIN:VTIMEZONE
TZID:Europe/Lisbon
BEGIN:DAYLIGHT
TZOFFSETFROM:+0000
TZOFFSETTO:+0100
TZNAME:WEST
DTSTART:20260329T010000
END:DAYLIGHT
BEGIN:STANDARD
TZOFFSETFROM:+0100
TZOFFSETTO:+0000
TZNAME:WET
DTSTART:20261025T010000
END:STANDARD
END:VTIMEZONE
BEGIN:VEVENT
DTSTART;TZID=Europe/Lisbon:20260215T090000
DTEND;TZID=Europe/Lisbon:20260215T170000
DTSTAMP:20260423T105330
CREATED:20260113T135334Z
LAST-MODIFIED:20260211T152953Z
UID:11753-1771146000-1771174800@golfojo.com
SUMMARY:CANCELADO! Torneio de Carnaval - Pares
DESCRIPTION:
URL:https://golfojo.com/event/torneio-de-carnaval-pares/
LOCATION:Golfe da Quinta do Fojo\, 238 Rua Nova do Fojo Canidelo\, Vila Nova de Gaia\, Porto\, 4400-232\, Portugal
CATEGORIES:Torneios
END:VEVENT
END:VCALENDAR