BEGIN:VCALENDAR
VERSION:2.0
PRODID:-//Fojo - ECPv6.11.2//NONSGML v1.0//EN
CALSCALE:GREGORIAN
METHOD:PUBLISH
X-ORIGINAL-URL:https://golfojo.com
X-WR-CALDESC:Events for Fojo
REFRESH-INTERVAL;VALUE=DURATION:PT1H
X-Robots-Tag:noindex
X-PUBLISHED-TTL:PT1H
BEGIN:VTIMEZONE
TZID:Europe/Lisbon
BEGIN:DAYLIGHT
TZOFFSETFROM:+0000
TZOFFSETTO:+0100
TZNAME:WEST
DTSTART:20250330T010000
END:DAYLIGHT
BEGIN:STANDARD
TZOFFSETFROM:+0100
TZOFFSETTO:+0000
TZNAME:WET
DTSTART:20251026T010000
END:STANDARD
BEGIN:DAYLIGHT
TZOFFSETFROM:+0000
TZOFFSETTO:+0100
TZNAME:WEST
DTSTART:20260329T010000
END:DAYLIGHT
BEGIN:STANDARD
TZOFFSETFROM:+0100
TZOFFSETTO:+0000
TZNAME:WET
DTSTART:20261025T010000
END:STANDARD
END:VTIMEZONE
BEGIN:VEVENT
DTSTART;TZID=Europe/Lisbon:20251210T080000
DTEND;TZID=Europe/Lisbon:20251210T170000
DTSTAMP:20260420T141215
CREATED:20251130T165933Z
LAST-MODIFIED:20251202T124912Z
UID:11580-1765353600-1765386000@golfojo.com
SUMMARY:Golfe & Tacho by Vinhos Vallado
DESCRIPTION:TRAGA UMA PRENDINHA PARA TROCAR PELOS SEUS AMIGOS!! (máx. €. 5\,00) \n1. Participação: Prova aberta a todos os jogadores\, filiados na Federação Portuguesa de Golfe\, com Índice de Handicap máximo de 54\,0 para os homens e 54\,0 para as senhoras. \n2. Inscrições: As inscrições deverão ser feitas através do email (geral@golfojo.com)\, ou telef: 227727070 (chamada para rede fixa) até às 13h do dia antes da prova. No caso do número de inscrições serem superiores ao limite estabelecido\, será dada prioridade aos Membros do Golfe da Quinta do Fojo. A prioridade seguinte será pela ordem de inscrição. \nPara efeitos de aceitação de um jogador na competição\, será considerado o respectivo handicap que conste no servidor da FPG no dia e hora do encerramento das inscrições.\nCom a sua inscrição\, o jogador autoriza que seja publicada toda a informação relativa a este evento: Listagem de inscritos\, Draw\, Classificações e Fotos. \n3. Limite de Inscrições: 32 jogadores de manhã \n4. Valor do Golfe com bar de campo incluído: \nMembros                        15\,00 € \nMembros HC e Semana 17\,50€ \n Não Membros                22\,50 € \nTacho: Menu executivo no Restaurante do Golfe da Quinta do Fojo com prova de Vinhos \n6. Regras: As aprovadas pelo “Royal and Ancient Golf Club of St. Andrews”\, as regras locais estabelecidas pela Comissão Técnica. \n7. Empates: Em caso de empate\, o desempate será feito sucessivamente pelos melhores últimos 9\, 6\, 3 buracos\, melhor último buraco. Se o empate persistir será declarado vencedor na classificação Net o jogador com handicap mais baixo e na classificação Gross o jogador de handicap mais alto. Se ainda persistir o empate será resolvido por sorteio. \nFaça aqui a sua inscrição! \n\n\n  \n\n\n\n Nome do Torneio (Obrigatório)\n      \n\n Nome (Obrigatório)\n\n    \n         Nome \n         \n    \n\n    \n         Sobrenome\n         \n    \n\n\n Email (Obrigatório)\n     \nCadastre-se para receber notícias e atualizações \n\n Nr. de Federado (Obrigatório)\n      \n\n\n    \n     Buggy\n    SimNão \n    \n\n    \n     Almoço\n    SimNão \n    \n\n\n Assunto\n      \n\nEnviar
URL:https://golfojo.com/event/golfe-tacho-by-vinhos-vallado/
LOCATION:Golfe da Quinta do Fojo\, 238 Rua Nova do Fojo Canidelo\, Vila Nova de Gaia\, Porto\, 4400-232\, Portugal
END:VEVENT
BEGIN:VEVENT
DTSTART;TZID=Europe/Lisbon:20251213T090000
DTEND;TZID=Europe/Lisbon:20251213T090000
DTSTAMP:20260420T141215
CREATED:20251130T165139Z
LAST-MODIFIED:20251202T133706Z
UID:11571-1765616400-1765616400@golfojo.com
SUMMARY:Torneio de Pares
DESCRIPTION:Participação: Prova aberta a todos os jogadores\, com índice de hcp válido e com máximo de 36\,0 para homens e 36\,0 para senhoras.\nInscrições: As inscrições poderão ser efectuadas através do site www.golfojo.com\, email geral@golfojo.com ou dos telefones 22 772 70 70 ou ainda directamente na recepção do Golfe da Quinta do Fojo. No caso do número de inscrições serem superiores ao limite\, será dada prioridade aos membros do clube. Para efeitos de aceitação de uma jogador na Prova será considerado o respectivo handicap\, que conste no servidor da FPG no dia de encerramento das inscrições.\n\nCom a sua inscrição o jogador autoriza a que seja publicada toda a informação sobre o Torneio: Lista de inscritos\, Draw\, Classificações e Fotografias. \n\nLimite de Inscrições: 32 pares\nModalidade: Pares Texas Scramble\nRegras: As aprovadas pelo “Royal and Ancient Golf Club of St. Andrews”\, as regras locais e as estabelecidas pela Comissão Técnica.\nPrograma:\nCheck-in a partir das 8.00h para shot-gun às 9.00h\nCheck-in a partir das 12.30h para shot-gun às 13.00h\nValores de Inscrição com bar de campo incluído\nMembros                          15\,00 €.\nMembros HC e Semana   17\,50 €.\nN/Membros                       25\,00 €\nEmpates: Em caso de empate\, o desempate será feito sucessivamente pelos melhores últimos 9\, 6\, 3 buracos\, melhor último buraco. Se o empate persistir será declarado vencedor na classificação Gross o handicap mais alto e na classificação Net o handicap mais baixo.\nPrémios:\n1º Par Gross\n1º Par Net\nLongest Drive e Nearest to the Pin\nDraw: Os grupos e os “tees” de saída serão sorteados pelos organizadores. O “draw” das saídas será afixado no site e na recepção do Golfe da Quinta do Fojo.\nComissão Técnica: Tiago Osório\, Ramiro Pinto e Francisca Osório\n\nFaça aqui a sua inscrição e informe quem será o seu par! \n\n\n  \n\n\n\n Nome do Torneio (Obrigatório)\n      \n\n Nome (Obrigatório)\n\n    \n         Nome \n         \n    \n\n    \n         Sobrenome\n         \n    \n\n\n Email (Obrigatório)\n     \nCadastre-se para receber notícias e atualizações \n\n Nr. de Federado (Obrigatório)\n      \n\n Caixa de Seleção (Obrigatório)\n    ManhãTarde \n\n Assunto\n      \n\nEnviar
URL:https://golfojo.com/event/torneio-de-pares/
LOCATION:Golfe da Quinta do Fojo\, 238 Rua Nova do Fojo Canidelo\, Vila Nova de Gaia\, Porto\, 4400-232\, Portugal
CATEGORIES:Torneios
END:VEVENT
BEGIN:VEVENT
DTSTART;TZID=Europe/Lisbon:20251216T080000
DTEND;TZID=Europe/Lisbon:20251216T170000
DTSTAMP:20260420T141215
CREATED:20251130T165403Z
LAST-MODIFIED:20251215T151008Z
UID:11573-1765872000-1765904400@golfojo.com
SUMMARY:Bola no Green - (organização externa)
DESCRIPTION:O campo estará reservado para este grupo das 9.00h às 12.30h
URL:https://golfojo.com/event/bola-no-green-organizacao-externo/
LOCATION:Golfe da Quinta do Fojo\, 238 Rua Nova do Fojo Canidelo\, Vila Nova de Gaia\, Porto\, 4400-232\, Portugal
END:VEVENT
BEGIN:VEVENT
DTSTART;TZID=Europe/Lisbon:20251217T090000
DTEND;TZID=Europe/Lisbon:20251217T170000
DTSTAMP:20260420T141215
CREATED:20250720T115058Z
LAST-MODIFIED:20251202T141334Z
UID:11086-1765962000-1765990800@golfojo.com
SUMMARY:Torneio de Natal do Circuito Sénior
DESCRIPTION:Participação: Prova aberta a jogadores seniores\, Homens – a partir de 50 anos (inclusive) e Senhoras – a partir de 40 anos (inclusive)\, filiados na Federação Portuguesa de Golfe\, com Índice de Handicap máximo de 36\,0 para os homens e 36\,0 para as senhoras. \nInscrições: As inscrições deverão ser feitas através do email (geral@golfojo.com)\, ou telef: 227727070 (chamada para rede fixa) até às 13h do dia antes da prova. No caso do número de inscrições serem superiores ao limite estabelecido\, será dada prioridade aos Membros do Golfe da Quinta do Fojo. A prioridade seguinte será pela ordem de inscrição. \nPara efeitos de aceitação de um jogador na competição\, será considerado o respectivo handicap que conste no servidor da FPG no dia e hora do encerramento das inscrições.\nCom a sua inscrição\, o jogador autoriza que seja publicada toda a informação relativa a este evento: Listagem de inscritos\, Draw\, Classificações e Fotos. \nLimite de Inscrições:32 jogadores de manhã e 32 jogadores à tarde \nValor da Inscrição com bar de campo incluído: \nMembros                                         15\,00 €\nMembros Semana e Home-Club     17\,50 €\nNão Membros                                  22\,50 € \n Modalidade: Singulares Stableford \nRegras: As aprovadas pelo “Royal and Ancient Golf Club of St. Andrews”\, as regras locais estabelecidas pela Comissão Técnica. \nEm caso de empate\, o desempate será feito sucessivamente pelos melhores últimos 9\, 6\, 3 buracos\, melhor último buraco. Se o empate persistir será declarado vencedor na classificação Net o jogador com handicap mais baixo e na classificação Gross o jogador de handicap mais alto. Se ainda persistir o empate será resolvido por sorteio. \nPrémios: \n1º Gross\, 1º Net e 1º Net Super Séniores \nLongest Drive e Nearest to the Pin \nNão há acumulação de prémios\, prevalecendo o Gross sobre o Net. \nPrograma: \nShot-gun às 9.00h e 13.00h \nDraw: As formações e os “tees” de saída serão sorteados pelos organizadores. O “draw” será publicado no site do clube e afixado e na recepção do Golfe da Quinta do Fojo. \nComissão Técnica: Tiago Osório\, Ramiro Pinto e Francisca Osório. Em qualquer altura a Comissão Técnica poderá: Complementar ou alterar o presente Regulamento; Anular ou Cancelar a Competição. Os casos omissos no regulamento serão decididos de forma definitiva pela Comissão Técnica \nInscreva-se aqui! \n\n\n  \n\n\n\n Nome do Torneio (Obrigatório)\n      \n\n Nome (Obrigatório)\n\n    \n         Nome \n         \n    \n\n    \n         Sobrenome\n         \n    \n\n\n Email (Obrigatório)\n     \nCadastre-se para receber notícias e atualizações \n\n Nr. de Federado (Obrigatório)\n      \n\n Caixa de Seleção (Obrigatório)\n    ManhãTarde \n\n Assunto\n      \n\nEnviar
URL:https://golfojo.com/event/torneio-de-natal-do-circuito-senior-2/
LOCATION:Golfe da Quinta do Fojo\, 238 Rua Nova do Fojo Canidelo\, Vila Nova de Gaia\, Porto\, 4400-232\, Portugal
CATEGORIES:Torneios
END:VEVENT
BEGIN:VEVENT
DTSTART;TZID=Europe/Lisbon:20251220T090000
DTEND;TZID=Europe/Lisbon:20251220T170000
DTSTAMP:20260420T141215
CREATED:20250720T115206Z
LAST-MODIFIED:20251212T135653Z
UID:11088-1766221200-1766250000@golfojo.com
SUMMARY:Torneio de Natal a contar para a OM POUSIO
DESCRIPTION:Participação: Prova aberta a todos os jogadores\, com índice de hcp válido e com máximo de 36\,0 para homens e 36\,0 para senhoras.\nInscrições: As inscrições poderão ser efectuadas através do site www.golfojo.com\, email geral@golfojo.com ou dos telefones 22 772 70 70 ou ainda directamente na recepção do Golfe da Quinta do Fojo. No caso do número de inscrições serem superiores ao limite\, será dada prioridade aos membros do clube. Para efeitos de aceitação de um jogador na Prova será considerado o respectivo handicap\, que conste no servidor da FPG no dia de encerramento das inscrições.\n\nCom a sua inscrição o jogador autoriza a que seja publicada toda a informação sobre o Torneio: Lista de inscritos\, Draw\, Classificações e Fotografias. \n\nLimite de Inscrições: 32 jogadores de manhã\, 32 de Jogadores à tarde\nModalidade: Singulares Stableford\nRegras: As aprovadas pelo “Royal and Ancient Golf Club of St. Andrews”\, as regras locais e as estabelecidas pela Comissão Técnica. À Comissão Técnica cabe decidir\, sem recurso\, sobre quaisquer dúvidas ou omissões respeitantes a este regulamento\, para além das competências que são atribuídas pelas Regras de Golfe.\nPrograma:\nCheck-in a partir das 8.00h para shot-gun às 8.45h\nCheck-in a partir das 12.30 para shot-gun às 13.00h\nValores de Inscrição com bar de campo incluído\nMembros                          15\,00 €.\nMembros HC e Semana   17\,50 €.\nNão Membros                  25\,00 €.\nJuniores                             7\,50 €.\nEmpates: Em caso de empate\, o desempate será feito sucessivamente pelos melhores últimos 9\, 6\, 3 buracos\, melhor último buraco. Se o empate persistir será declarado vencedor na classificação Gross o handicap mais alto e na classificação Net o handicap mais baixo.\nPrémios:\n1º e 2º Gross\n1º e 2º Net\n1º Net Senhoras\n\nPrémios especiais:\nLongest Drive Homens e Senhoras no buraco 4\nNearest to the Pin no buraco 1 \n\nDraw: Os grupos e os “tees” de saída serão sorteados pelos organizadores. O “draw” das saídas será afixado no site e na recepção do Golfe da Quinta do Fojo.\nComissão Técnica: Tiago Osório\, Ramiro Pinto e Francisca Osório\nEm qualquer altura a Comissão Técnica poderá: Complementar ou alterar o presente Regulamento; Anular ou Cancelar a Competição. Os casos omissos no regulamento serão decididos de forma definitiva pela Comissão Técnica.\n\nConfirme aqui a sua presença! \n\n\n  \n\n\n\n Nome do Torneio (Obrigatório)\n      \n\n Nome (Obrigatório)\n\n    \n         Nome \n         \n    \n\n    \n         Sobrenome\n         \n    \n\n\n Email (Obrigatório)\n     \nCadastre-se para receber notícias e atualizações \n\n Nr. de Federado (Obrigatório)\n      \n\n Caixa de Seleção (Obrigatório)\n    ManhãTarde \n\n Assunto\n      \n\nEnviar
URL:https://golfojo.com/event/torneio-de-natal-a-contar-para-a-om-pousio/
LOCATION:Golfe da Quinta do Fojo\, 238 Rua Nova do Fojo Canidelo\, Vila Nova de Gaia\, Porto\, 4400-232\, Portugal
CATEGORIES:Torneios
END:VEVENT
BEGIN:VEVENT
DTSTART;TZID=Europe/Lisbon:20251228T080000
DTEND;TZID=Europe/Lisbon:20251228T170000
DTSTAMP:20260420T141215
CREATED:20251130T165704Z
LAST-MODIFIED:20251216T140139Z
UID:11578-1766908800-1766941200@golfojo.com
SUMMARY:Torneio para Jogadores Iniciados
DESCRIPTION:Participação: Competição aberta a todos os jogadores filiados na FPG\, com índice de handicap certificado pelo respectivo “home-club” e  a todos os jogadores que estejam a marcar cartões para 1º hcp. \nModalidade: O torneio será disputado em 12 buracos válido para handicap\, na modalidade de Stableford Full Handicap. \nHandicap: Prova aberta a todos os jogadores (homens e senhoras)\, com índice de handicap de 28\,0 a 54\,0 e a todos que estejam a marcar cartões para 1º hcp ou necessite fazer cartões para reativar o hcp. \nInscrições: As inscrições deverão ser feitas através do site www.golfojo.com\, e.mail: geral@golfojo.com e pelo telefone 227727070 até à véspera do Torneio ou diretamente na recepção do Golfe da Quinta do Fojo. \nLimite de Inscrições: As inscrições serão aceites por ordem de chegada. \nValor da Inscrição com bar de campo: \nSócios Fojo – €. 17\,50\nNão sócios – €. 20\,00 \nHora de Saída: Shot-gun às 9h30 \nPrémios: De índice de handicap 28\,0 a 36\,0 – 1º Net\nDe ínice de handicap 36\,1 a 54\,0 – 1º Net \nNearest to the Pin Geral  e Longest Drive \nEmpates: Os desempates serão efectuados com base nos resultados obtidos nos \nÚltimos 9\,6 e 3 buracos. Em caso de subsistir o empate\, o desempate será feito pelo hcp mais baixo. \nRegras:  As Regras a aplicar são as aprovadas pelo “ Royal and Ancient Golf \nClube of St. Andrews” e as Regras Locais estabelecidas pela Comissão Técnica.\nRegras Locais: (a informar oportunamente) \nResultados da Competição – Competição Encerrada: Os jogadores têm direito a reclamar os resultados dentro dos 15 minutos após a publicação dos resultados. \nComissão Técnica: Francisca Osório\, Tiago Osório e Ramiro Pinto \nÀ Comissão Técnica cabe: Completar ou Alterar o presente regulamento\, Anular ou Cancelar a competição. Qualquer caso omisso será decidido por esta Comissão. \nInscreva-se aqui! \n\n\n  \n\n\n\n Nome do Torneio (Obrigatório)\n      \n\n Nome (Obrigatório)\n\n    \n         Nome \n         \n    \n\n    \n         Sobrenome\n         \n    \n\n\n Email (Obrigatório)\n     \nCadastre-se para receber notícias e atualizações \n\n Nr. de Federado (Obrigatório)\n      \n\n Assunto\n      \n\nEnviar
URL:https://golfojo.com/event/torneio-para-jogadores-iniciados-5/
LOCATION:Golfe da Quinta do Fojo\, 238 Rua Nova do Fojo Canidelo\, Vila Nova de Gaia\, Porto\, 4400-232\, Portugal
END:VEVENT
BEGIN:VEVENT
DTSTART;TZID=Europe/Lisbon:20251231T090000
DTEND;TZID=Europe/Lisbon:20251231T133000
DTSTAMP:20260420T141215
CREATED:20251130T165534Z
LAST-MODIFIED:20251230T110305Z
UID:11575-1767171600-1767187800@golfojo.com
SUMMARY:INSCRIÇÕES ENCERRADAS! Torneio do Fim de Ano! Traga uma garrafa e venha festejar a um novo Ano!!
DESCRIPTION:Participação: Prova aberta a todos os jogadores\, com índice de hcp válido e com máximo de 54\,0 para homens e 54\,0 para senhoras.\nInscrições: As inscrições poderão ser efectuadas através do site www.golfojo.com\, email geral@golfojo.com ou dos telefones 22 772 70 70 ou ainda directamente na recepção do Golfe da Quinta do Fojo. No caso do número de inscrições serem superiores ao limite\, será dada prioridade aos membros do clube. Para efeitos de aceitação de um jogador na Prova será considerado o respectivo handicap\, que conste no servidor da FPG no dia de encerramento das inscrições.\n\nCom a sua inscrição o jogador autoriza a que seja publicada toda a informação sobre o Torneio: Lista de inscritos\, Draw\, Classificações e Fotografias. \n\nLimite de Inscrições: 36 jogadores de manhã\nModalidade: Singulares Stableford\nRegras: As aprovadas pelo “Royal and Ancient Golf Club of St. Andrews”\, as regras locais e as estabelecidas pela Comissão Técnica. À Comissão Técnica cabe decidir\, sem recurso\, sobre quaisquer dúvidas ou omissões respeitantes a este regulamento\, para além das competências que são atribuídas pelas Regras de Golfe.\nPrograma:\nCheck-in a partir das 8.00h para shot-gun às 9.00h\nValores de Inscrição com bar de campo incluído\nMembros                          15\,00 €.\nNão Membros                  25\,00 €.\nJuniores                             7\,50 €.\nEmpates: Em caso de empate\, o desempate será feito sucessivamente pelos melhores últimos 9\, 6\, 3 buracos\, melhor último buraco. Se o empate persistir será declarado vencedor na classificação Gross o handicap mais alto e na classificação Net o handicap mais baixo.\nPrémios:\n1º Gross\n1º Net\n\n          Prémios especiais:\nLongest Drive\nNearest to the Pin \n\nDraw: Os grupos e os “tees” de saída serão sorteados pelos organizadores. O “draw” das saídas será afixado no site e na recepção do Golfe da Quinta do Fojo.\nComissão Técnica: Tiago Osório\, Ramiro Pinto e Francisca Osório\nEm qualquer altura a Comissão Técnica poderá: Complementar ou alterar o presente Regulamento; Anular ou Cancelar a Competição. Os casos omissos no regulamento serão decididos de forma definitiva pela Comissão Técnica.
URL:https://golfojo.com/event/torneio-do-fim-de-ano/
LOCATION:Golfe da Quinta do Fojo\, 238 Rua Nova do Fojo Canidelo\, Vila Nova de Gaia\, Porto\, 4400-232\, Portugal
END:VEVENT
BEGIN:VEVENT
DTSTART;TZID=Europe/Lisbon:20251231T193000
DTEND;TZID=Europe/Lisbon:20260101T040000
DTSTAMP:20260420T141215
CREATED:20251125T160537Z
LAST-MODIFIED:20251229T124954Z
UID:11546-1767209400-1767240000@golfojo.com
SUMMARY:Festa de Passagem de Ano!
DESCRIPTION:🍾✨Entre no Novo Ano com a Magia da Quinta do Fojo! 🍾 \nCelebre a passagem de ano num cenário único\, onde a natureza\, a boa gastronomia e a festa se unem para dar as boas-vindas a 2026 da melhor forma. \nO que preparámos para si: \n🍹 Cocktail de boas-vindas\n🍽️ Jantar especial\, preparado de raíz com os ingredientes frescos da Quinta\n🥂 Espumante\, uvas passas e ceia para cumprir a tradição\n💃 Festa pela madrugada fora\, com música\, dança e muitas surpresas \n🎉 Opções de participação*\n– Programa completo: 98€ por pessoa\n– Só Festa: 40€ por pessoa (inclui festa e ceia) \n📱 968 448 104 (chamada para rede móvel nacional)\n💌 restaurantequintadofojo@golfojo.com \nAs reservas são limitadas\, por isso garanta já o seu lugar e venha celebrar connosco a noite mais especial do ano! \n*Reserva com pré-pagamento.
URL:https://golfojo.com/event/ano-novo/
LOCATION:Golfe da Quinta do Fojo\, 238 Rua Nova do Fojo Canidelo\, Vila Nova de Gaia\, Porto\, 4400-232\, Portugal
CATEGORIES:Eventos
ATTACH;FMTTYPE=image/png:https://golfojo.com/wp-content/uploads/2025/11/Yellow-White-Minimalist-Elegant-Mocktail-Happy-Hour-Instagram-Post-1.png
END:VEVENT
END:VCALENDAR