BEGIN:VCALENDAR
VERSION:2.0
PRODID:-//Fojo - ECPv6.11.2//NONSGML v1.0//EN
CALSCALE:GREGORIAN
METHOD:PUBLISH
X-WR-CALNAME:Fojo
X-ORIGINAL-URL:https://golfojo.com
X-WR-CALDESC:Events for Fojo
REFRESH-INTERVAL;VALUE=DURATION:PT1H
X-Robots-Tag:noindex
X-PUBLISHED-TTL:PT1H
BEGIN:VTIMEZONE
TZID:Europe/Lisbon
BEGIN:DAYLIGHT
TZOFFSETFROM:+0000
TZOFFSETTO:+0100
TZNAME:WEST
DTSTART:20250330T010000
END:DAYLIGHT
BEGIN:STANDARD
TZOFFSETFROM:+0100
TZOFFSETTO:+0000
TZNAME:WET
DTSTART:20251026T010000
END:STANDARD
BEGIN:DAYLIGHT
TZOFFSETFROM:+0000
TZOFFSETTO:+0100
TZNAME:WEST
DTSTART:20260329T010000
END:DAYLIGHT
BEGIN:STANDARD
TZOFFSETFROM:+0100
TZOFFSETTO:+0000
TZNAME:WET
DTSTART:20261025T010000
END:STANDARD
END:VTIMEZONE
BEGIN:VEVENT
DTSTART;TZID=Europe/Lisbon:20251231T193000
DTEND;TZID=Europe/Lisbon:20260101T040000
DTSTAMP:20260420T123148
CREATED:20251125T160537Z
LAST-MODIFIED:20251229T124954Z
UID:11546-1767209400-1767240000@golfojo.com
SUMMARY:Festa de Passagem de Ano!
DESCRIPTION:🍾✨Entre no Novo Ano com a Magia da Quinta do Fojo! 🍾 \nCelebre a passagem de ano num cenário único\, onde a natureza\, a boa gastronomia e a festa se unem para dar as boas-vindas a 2026 da melhor forma. \nO que preparámos para si: \n🍹 Cocktail de boas-vindas\n🍽️ Jantar especial\, preparado de raíz com os ingredientes frescos da Quinta\n🥂 Espumante\, uvas passas e ceia para cumprir a tradição\n💃 Festa pela madrugada fora\, com música\, dança e muitas surpresas \n🎉 Opções de participação*\n– Programa completo: 98€ por pessoa\n– Só Festa: 40€ por pessoa (inclui festa e ceia) \n📱 968 448 104 (chamada para rede móvel nacional)\n💌 restaurantequintadofojo@golfojo.com \nAs reservas são limitadas\, por isso garanta já o seu lugar e venha celebrar connosco a noite mais especial do ano! \n*Reserva com pré-pagamento.
URL:https://golfojo.com/event/ano-novo/
LOCATION:Golfe da Quinta do Fojo\, 238 Rua Nova do Fojo Canidelo\, Vila Nova de Gaia\, Porto\, 4400-232\, Portugal
CATEGORIES:Eventos
ATTACH;FMTTYPE=image/png:https://golfojo.com/wp-content/uploads/2025/11/Yellow-White-Minimalist-Elegant-Mocktail-Happy-Hour-Instagram-Post-1.png
END:VEVENT
BEGIN:VEVENT
DTSTART;TZID=Europe/Lisbon:20260108T100000
DTEND;TZID=Europe/Lisbon:20260108T133000
DTSTAMP:20260420T123148
CREATED:20260102T175331Z
LAST-MODIFIED:20260102T180513Z
UID:11687-1767866400-1767879000@golfojo.com
SUMMARY:1º Torneio Winter Golf Cup
DESCRIPTION:Participação: Prova aberta a todos os jogadores\, com índice de hcp válido e com máximo de 54\,0 para homens e 54\,0 para senhoras.\nEsta Taça será composta por 12 Torneios a realizar em 12 semanas e com a seguinte calendarização:\n\nJaneiro: \n08 de Janeiro (quinta-feira) \n15 de Janeiro (quinta-feira) \n22 de Janeiro (quinta-feira) \n29 de Janeiro (quinta-feira) \nFevereiro: \n5 de Fevereiro (quinta-feira) \n12 de Fevereiro (quinta-feira) \n19 de Fevereiro (quinta-feira) \n26 de Fevereiro (quinta-feira) \nMarço: \n5 de Março (quinta-feira) \n12 de Março (quinta-feira) \n19 de Março (quinta-feira) \n26 de Março (quinta-feira) \n\nModalidade: Singulares Stableford em 12 buracos\nInscrições: As inscrições poderão ser efectuadas através do site www.golfojo.com\, email geral@golfojo.com ou dos telefones 22 772 70 70 ou ainda directamente na recepção do Golfe da Quinta do Fojo. No caso do número de inscrições serem superiores ao limite\, será dada prioridade aos membros do clube. Para efeitos de aceitação de um jogador na Prova será considerado o respectivo handicap\, que conste no servidor da FPG no dia de encerramento das inscrições.\n\nCom a sua inscrição o jogador autoriza a que seja publicada toda a informação sobre o Torneio: Lista de inscritos\, Draw\, Classificações e Fotografias. \n\nLimite de Inscrições para cada Torneio: 32 jogadores de manhã\nPrograma:\nCheck-in a partir das 9.00h para shot-gun às 10.00h\nAlmoço opcional às 13.30h com o buffet no Restaurante da Quinta do Fojo\nValores de Inscrição com bar de campo:\nMembros    12\,50 €.\nMembros HC         15\,00 €.\nNão Membros        17\,50 €.\nRegras: As aprovadas pelo “Royal and Ancient Golf Club of St. Andrews”\, as regras locais e as estabelecidas pela Comissão Técnica. À Comissão Técnica cabe decidir\, sem recurso\, sobre quaisquer dúvidas ou omissões respeitantes a este regulamento\, para além das competências que são atribuídas pelas Regras de Golfe.\nEmpates: Em caso de empate\, o desempate será feito sucessivamente pelos melhores últimos 9\, 6\, 3 buracos\, melhor último buraco. Se o empate persistir será declarado vencedor na classificação Gross o handicap mais alto e na classificação Net o handicap mais baixo.\nPara a classificação Final da Winter Golf Cup contarão os melhores 8 resultados dos 12 Torneios realizados.\n\nOs prémios a entregar no último Torneio da Winter Golf Cup serão: \n1º e 2º Gross \n1º e 2º Net \n\nComissão Técnica: Tiago Osório\, Ramiro Pinto e Francisca Osório\nEm qualquer altura a Comissão Técnica poderá: Complementar ou alterar o presente Regulamento; Anular ou Cancelar a Competição. Os casos omissos no regulamento serão decididos de forma definitiva pela Comissão Técnica.\n\n\n\n  \n\n\n\n Nome do Torneio (Obrigatório)\n      \n\n Nome (Obrigatório)\n\n    \n         Nome \n         \n    \n\n    \n         Sobrenome\n         \n    \n\n\n Email (Obrigatório)\n     \nCadastre-se para receber notícias e atualizações \n\n Nr. de Federado (Obrigatório)\n      \n\n Assunto\n      \n\nEnviar
URL:https://golfojo.com/event/1o-torneio-winter-golf-cup/
LOCATION:Golfe da Quinta do Fojo\, 238 Rua Nova do Fojo Canidelo\, Vila Nova de Gaia\, Porto\, 4400-232\, Portugal
END:VEVENT
BEGIN:VEVENT
DTSTART;TZID=Europe/Lisbon:20260115T100000
DTEND;TZID=Europe/Lisbon:20260115T133000
DTSTAMP:20260420T123148
CREATED:20260102T175652Z
LAST-MODIFIED:20260114T124220Z
UID:11689-1768471200-1768483800@golfojo.com
SUMMARY:CANCELADO! - 2º Torneio Winter Golf Cup
DESCRIPTION:Participação: Prova aberta a todos os jogadores\, com índice de hcp válido e com máximo de 54\,0 para homens e 54\,0 para senhoras.\nEsta Taça será composta por 12 Torneios a realizar em 12 semanas e com a seguinte calendarização:\n\nJaneiro: \n08 de Janeiro (quinta-feira) \n15 de Janeiro (quinta-feira) \n22 de Janeiro (quinta-feira) \n29 de Janeiro (quinta-feira) \nFevereiro: \n5 de Fevereiro (quinta-feira) \n12 de Fevereiro (quinta-feira) \n19 de Fevereiro (quinta-feira) \n26 de Fevereiro (quinta-feira) \nMarço: \n5 de Março (quinta-feira) \n12 de Março (quinta-feira) \n19 de Março (quinta-feira) \n26 de Março (quinta-feira) \n\nModalidade: Singulares Stableford em 12 buracos\nInscrições: As inscrições poderão ser efectuadas através do site www.golfojo.com\, email geral@golfojo.com ou dos telefones 22 772 70 70 ou ainda directamente na recepção do Golfe da Quinta do Fojo. No caso do número de inscrições serem superiores ao limite\, será dada prioridade aos membros do clube. Para efeitos de aceitação de um jogador na Prova será considerado o respectivo handicap\, que conste no servidor da FPG no dia de encerramento das inscrições.\n\nCom a sua inscrição o jogador autoriza a que seja publicada toda a informação sobre o Torneio: Lista de inscritos\, Draw\, Classificações e Fotografias. \n\nLimite de Inscrições para cada Torneio: 32 jogadores de manhã\nPrograma:\nCheck-in a partir das 9.00h para shot-gun às 10.00h\nAlmoço opcional às 13.30h com o buffet no Restaurante da Quinta do Fojo\nValores de Inscrição com bar de campo:\nMembros               12\,50 €.\nMembros HC         15\,00 €.\nNão Membros        17\,50 €.\nRegras: As aprovadas pelo “Royal and Ancient Golf Club of St. Andrews”\, as regras locais e as estabelecidas pela Comissão Técnica. À Comissão Técnica cabe decidir\, sem recurso\, sobre quaisquer dúvidas ou omissões respeitantes a este regulamento\, para além das competências que são atribuídas pelas Regras de Golfe.\nEmpates: Em caso de empate\, o desempate será feito sucessivamente pelos melhores últimos 9\, 6\, 3 buracos\, melhor último buraco. Se o empate persistir será declarado vencedor na classificação Gross o handicap mais alto e na classificação Net o handicap mais baixo.\nPara a classificação Final da Winter Golf Cup contarão os melhores 8 resultados dos 12 Torneios realizados.\n\nOs prémios a entregar no último Torneio da Winter Golf Cup serão: \n1º e 2º Gross \n1º e 2º Net \n\nComissão Técnica: Tiago Osório\, Ramiro Pinto e Francisca Osório\nEm qualquer altura a Comissão Técnica poderá: Complementar ou alterar o presente Regulamento; Anular ou Cancelar a Competição. Os casos omissos no regulamento serão decididos de forma definitiva pela Comissão Técnica.\n\n\n\n  \n\n\n\n Nome do Torneio (Obrigatório)\n      \n\n Nome (Obrigatório)\n\n    \n         Nome \n         \n    \n\n    \n         Sobrenome\n         \n    \n\n\n Email (Obrigatório)\n     \nCadastre-se para receber notícias e atualizações \n\n Nr. de Federado (Obrigatório)\n      \n\n Assunto\n      \n\nEnviar
URL:https://golfojo.com/event/2o-torneio-winter-golf-cup/
LOCATION:Golfe da Quinta do Fojo\, 238 Rua Nova do Fojo Canidelo\, Vila Nova de Gaia\, Porto\, 4400-232\, Portugal
END:VEVENT
BEGIN:VEVENT
DTSTART;TZID=Europe/Lisbon:20260122T100000
DTEND;TZID=Europe/Lisbon:20260122T133000
DTSTAMP:20260420T123148
CREATED:20260102T175813Z
LAST-MODIFIED:20260121T151621Z
UID:11691-1769076000-1769088600@golfojo.com
SUMMARY:CANCELADO! - 3º Torneio Winter Golf Cup
DESCRIPTION:Participação: Prova aberta a todos os jogadores\, com índice de hcp válido e com máximo de 54\,0 para homens e 54\,0 para senhoras.\nEsta Taça será composta por 12 Torneios a realizar em 12 semanas e com a seguinte calendarização:\n\nJaneiro: \n08 de Janeiro (quinta-feira) \n15 de Janeiro (quinta-feira) \n22 de Janeiro (quinta-feira) \n29 de Janeiro (quinta-feira) \nFevereiro: \n5 de Fevereiro (quinta-feira) \n12 de Fevereiro (quinta-feira) \n19 de Fevereiro (quinta-feira) \n26 de Fevereiro (quinta-feira) \nMarço: \n5 de Março (quinta-feira) \n12 de Março (quinta-feira) \n19 de Março (quinta-feira) \n26 de Março (quinta-feira) \n\nModalidade: Singulares Stableford em 12 buracos\nInscrições: As inscrições poderão ser efectuadas através do site www.golfojo.com\, email geral@golfojo.com ou dos telefones 22 772 70 70 ou ainda directamente na recepção do Golfe da Quinta do Fojo. No caso do número de inscrições serem superiores ao limite\, será dada prioridade aos membros do clube. Para efeitos de aceitação de um jogador na Prova será considerado o respectivo handicap\, que conste no servidor da FPG no dia de encerramento das inscrições.\n\nCom a sua inscrição o jogador autoriza a que seja publicada toda a informação sobre o Torneio: Lista de inscritos\, Draw\, Classificações e Fotografias. \n\nLimite de Inscrições para cada Torneio: 32 jogadores de manhã\nPrograma:\nCheck-in a partir das 9.00h para shot-gun às 10.00h\nAlmoço opcional às 13.30h com o buffet no Restaurante da Quinta do Fojo\nValores de Inscrição com bar de campo:\nMembros                12\,50 €.\nMembros HC         15\,00 €.\nNão Membros        17\,50 €.\nRegras: As aprovadas pelo “Royal and Ancient Golf Club of St. Andrews”\, as regras locais e as estabelecidas pela Comissão Técnica. À Comissão Técnica cabe decidir\, sem recurso\, sobre quaisquer dúvidas ou omissões respeitantes a este regulamento\, para além das competências que são atribuídas pelas Regras de Golfe.\nEmpates: Em caso de empate\, o desempate será feito sucessivamente pelos melhores últimos 9\, 6\, 3 buracos\, melhor último buraco. Se o empate persistir será declarado vencedor na classificação Gross o handicap mais alto e na classificação Net o handicap mais baixo.\nPara a classificação Final da Winter Golf Cup contarão os melhores 8 resultados dos 12 Torneios realizados.\n\nOs prémios a entregar no último Torneio da Winter Golf Cup serão: \n1º e 2º Gross \n1º e 2º Net \n\nComissão Técnica: Tiago Osório\, Ramiro Pinto e Francisca Osório\nEm qualquer altura a Comissão Técnica poderá: Complementar ou alterar o presente Regulamento; Anular ou Cancelar a Competição. Os casos omissos no regulamento serão decididos de forma definitiva pela Comissão Técnica.\n\n\n\n  \n\n\n\n Nome do Torneio (Obrigatório)\n      \n\n Nome (Obrigatório)\n\n    \n         Nome \n         \n    \n\n    \n         Sobrenome\n         \n    \n\n\n Email (Obrigatório)\n     \nCadastre-se para receber notícias e atualizações \n\n Nr. de Federado (Obrigatório)\n      \n\n Assunto\n      \n\nEnviar
URL:https://golfojo.com/event/3o-torneio-winter-golf-cup/
LOCATION:Golfe da Quinta do Fojo\, 238 Rua Nova do Fojo Canidelo\, Vila Nova de Gaia\, Porto\, 4400-232\, Portugal
END:VEVENT
BEGIN:VEVENT
DTSTART;TZID=Europe/Lisbon:20260124T090000
DTEND;TZID=Europe/Lisbon:20260124T170000
DTSTAMP:20260420T123148
CREATED:20260121T160919Z
LAST-MODIFIED:20260122T134750Z
UID:11774-1769245200-1769274000@golfojo.com
SUMMARY:ADIADO PARA DIA 30/01 - PRO-AM DOS CAMPEÕES!
DESCRIPTION:
URL:https://golfojo.com/event/adiado-para-dia-31-01-pro-am-dos-campeoes/
LOCATION:Golfe da Quinta do Fojo\, 238 Rua Nova do Fojo Canidelo\, Vila Nova de Gaia\, Porto\, 4400-232\, Portugal
END:VEVENT
BEGIN:VEVENT
DTSTART;TZID=Europe/Lisbon:20260128T080000
DTEND;TZID=Europe/Lisbon:20260128T170000
DTSTAMP:20260420T123148
CREATED:20260102T180247Z
LAST-MODIFIED:20260126T155908Z
UID:11695-1769587200-1769619600@golfojo.com
SUMMARY:CANCELADO! 1º Torneio Circuito Sénior 2026
DESCRIPTION:Participação: Prova aberta a jogadores seniores\, Homens – a partir de 50 anos (inclusive) e Senhoras – a partir de 40 anos (inclusive)\, filiados na Federação Portuguesa de Golfe\, com Índice de Handicap máximo de 36\,0 para os homens e 36\,0 para as senhoras. \nInscrições: As inscrições deverão ser feitas através do email (geral@golfojo.com)\, ou telef: 227727070 (chamada para rede fixa) até às 13h do dia antes da prova. No caso do número de inscrições serem superiores ao limite estabelecido\, será dada prioridade aos Membros do Golfe da Quinta do Fojo. A prioridade seguinte será pela ordem de inscrição. \nPara efeitos de aceitação de um jogador na competição\, será considerado o respectivo handicap que conste no servidor da FPG no dia e hora do encerramento das inscrições.\nCom a sua inscrição\, o jogador autoriza que seja publicada toda a informação relativa a este evento: Listagem de inscritos\, Draw\, Classificações e Fotos. \nLimite de Inscrições:32 jogadores de manhã e 32 jogadores à tarde \nValor da Inscrição com bar de campo incluído: \nMembros                                         15\,00 €\nMembros Semana e Home-Club     17\,50 €\nNão Membros                                  22\,50 € \n Modalidade: Singulares Stableford \nRegras: As aprovadas pelo “Royal and Ancient Golf Club of St. Andrews”\, as regras locais estabelecidas pela Comissão Técnica. \nEm caso de empate\, o desempate será feito sucessivamente pelos melhores últimos 9\, 6\, 3 buracos\, melhor último buraco. Se o empate persistir será declarado vencedor na classificação Net o jogador com handicap mais baixo e na classificação Gross o jogador de handicap mais alto. Se ainda persistir o empate será resolvido por sorteio. \nPrémios: \n1º Gross\, 1º Net e 1º Net Super Séniores \nLongest Drive e Nearest to the Pin \nNão há acumulação de prémios\, prevalecendo o Gross sobre o Net. \nPrograma: \nShot-gun às 9.00h e 13.00h \nDraw: As formações e os “tees” de saída serão sorteados pelos organizadores. O “draw” será publicado no site do clube e afixado e na recepção do Golfe da Quinta do Fojo. \nComissão Técnica: Tiago Osório\, Ramiro Pinto e Francisca Osório. Em qualquer altura a Comissão Técnica poderá: Complementar ou alterar o presente Regulamento; Anular ou Cancelar a Competição. Os casos omissos no regulamento serão decididos de forma definitiva pela Comissão Técnica \nInscreva-se aqui! \n\n\n  \n\n\n\n Nome do Torneio (Obrigatório)\n      \n\n Nome (Obrigatório)\n\n    \n         Nome \n         \n    \n\n    \n         Sobrenome\n         \n    \n\n\n Email (Obrigatório)\n     \nCadastre-se para receber notícias e atualizações \n\n Nr. de Federado (Obrigatório)\n      \n\n Caixa de Seleção (Obrigatório)\n    ManhãTarde \n\n Assunto\n      \n\nEnviar
URL:https://golfojo.com/event/1o-torneio-circuito-senior-2026/
LOCATION:Golfe da Quinta do Fojo\, 238 Rua Nova do Fojo Canidelo\, Vila Nova de Gaia\, Porto\, 4400-232\, Portugal
CATEGORIES:Torneios
END:VEVENT
BEGIN:VEVENT
DTSTART;TZID=Europe/Lisbon:20260129T100000
DTEND;TZID=Europe/Lisbon:20260129T133000
DTSTAMP:20260420T123148
CREATED:20260102T180117Z
LAST-MODIFIED:20260126T155954Z
UID:11693-1769680800-1769693400@golfojo.com
SUMMARY:CANCELADO! 4º Torneio Winter Golf Cup
DESCRIPTION:Participação: Prova aberta a todos os jogadores\, com índice de hcp válido e com máximo de 54\,0 para homens e 54\,0 para senhoras.\nEsta Taça será composta por 12 Torneios a realizar em 12 semanas e com a seguinte calendarização:\n\nJaneiro: \n08 de Janeiro (quinta-feira) \n15 de Janeiro (quinta-feira) \n22 de Janeiro (quinta-feira) \n29 de Janeiro (quinta-feira) \nFevereiro: \n5 de Fevereiro (quinta-feira) \n12 de Fevereiro (quinta-feira) \n19 de Fevereiro (quinta-feira) \n26 de Fevereiro (quinta-feira) \nMarço: \n5 de Março (quinta-feira) \n12 de Março (quinta-feira) \n19 de Março (quinta-feira) \n26 de Março (quinta-feira) \n\nModalidade: Singulares Stableford em 12 buracos\nInscrições: As inscrições poderão ser efectuadas através do site www.golfojo.com\, email geral@golfojo.com ou dos telefones 22 772 70 70 ou ainda directamente na recepção do Golfe da Quinta do Fojo. No caso do número de inscrições serem superiores ao limite\, será dada prioridade aos membros do clube. Para efeitos de aceitação de um jogador na Prova será considerado o respectivo handicap\, que conste no servidor da FPG no dia de encerramento das inscrições.\n\nCom a sua inscrição o jogador autoriza a que seja publicada toda a informação sobre o Torneio: Lista de inscritos\, Draw\, Classificações e Fotografias. \n\nLimite de Inscrições para cada Torneio: 32 jogadores de manhã\nPrograma:\nCheck-in a partir das 9.00h para shot-gun às 10.00h\nAlmoço opcional às 13.30h com o buffet no Restaurante da Quinta do Fojo\nValores de Inscrição com bar de campo:\nMembros                12\,50 €.\nMembros HC         15\,00 €.\nNão Membros        17\,50 €.\nRegras: As aprovadas pelo “Royal and Ancient Golf Club of St. Andrews”\, as regras locais e as estabelecidas pela Comissão Técnica. À Comissão Técnica cabe decidir\, sem recurso\, sobre quaisquer dúvidas ou omissões respeitantes a este regulamento\, para além das competências que são atribuídas pelas Regras de Golfe.\nEmpates: Em caso de empate\, o desempate será feito sucessivamente pelos melhores últimos 9\, 6\, 3 buracos\, melhor último buraco. Se o empate persistir será declarado vencedor na classificação Gross o handicap mais alto e na classificação Net o handicap mais baixo.\nPara a classificação Final da Winter Golf Cup contarão os melhores 8 resultados dos 12 Torneios realizados.\n\nOs prémios a entregar no último Torneio da Winter Golf Cup serão: \n1º e 2º Gross \n1º e 2º Net \n\nComissão Técnica: Tiago Osório\, Ramiro Pinto e Francisca Osório\nEm qualquer altura a Comissão Técnica poderá: Complementar ou alterar o presente Regulamento; Anular ou Cancelar a Competição. Os casos omissos no regulamento serão decididos de forma definitiva pela Comissão Técnica.\n\n\n\n  \n\n\n\n Nome do Torneio (Obrigatório)\n      \n\n Nome (Obrigatório)\n\n    \n         Nome \n         \n    \n\n    \n         Sobrenome\n         \n    \n\n\n Email (Obrigatório)\n     \nCadastre-se para receber notícias e atualizações \n\n Nr. de Federado (Obrigatório)\n      \n\n Assunto\n      \n\nEnviar
URL:https://golfojo.com/event/4o-torneio-winter-golf-cup/
LOCATION:Golfe da Quinta do Fojo\, 238 Rua Nova do Fojo Canidelo\, Vila Nova de Gaia\, Porto\, 4400-232\, Portugal
END:VEVENT
BEGIN:VEVENT
DTSTART;TZID=Europe/Lisbon:20260131T080000
DTEND;TZID=Europe/Lisbon:20260131T170000
DTSTAMP:20260420T123148
CREATED:20260102T182103Z
LAST-MODIFIED:20260130T094141Z
UID:11702-1769846400-1769878800@golfojo.com
SUMMARY:PROGRAMA CANCELADO! O PRO-AM e a entrega de prémios serão realizados em data a confirmar oportunamente
DESCRIPTION:Cocktail de entrega de prémios aos vencedores de 2025 by POUSIO\, uma oferta BYD! \nPrograma para todos os Membros do Golfe da Quinta do Fojo: \n17.00h – Apresentação da BYD e Test Drive \n18.00h – Entrega de prémios aos Vencedores de 2025 \n18.30h – Cocktail para todos os presentes\, Vencedores e Membros Golfe da Quinta do Fojo: \nConsulte aqui todos os nossos Vencedores e venha aplaudi-los! \n \nConfirme aqui a sua presença! \n\n\n  \n\n\n\n Nome do Torneio (Obrigatório)\n      \n\n Nome (Obrigatório)\n\n    \n         Nome \n         \n    \n\n    \n         Sobrenome\n         \n    \n\n\n Email (Obrigatório)\n     \nCadastre-se para receber notícias e atualizações \n\n Nr. de Federado (Obrigatório)\n      \n\n Assunto\n      \n\nEnviar \n\n\n\n 
URL:https://golfojo.com/event/pro-am-dos-vencedores-de-2025/
LOCATION:Golfe da Quinta do Fojo\, 238 Rua Nova do Fojo Canidelo\, Vila Nova de Gaia\, Porto\, 4400-232\, Portugal
CATEGORIES:Torneios
END:VEVENT
END:VCALENDAR